BEGIN:VCALENDAR
PRODID:-//eluceo/ical//2.0/EN
VERSION:2.0
CALSCALE:GREGORIAN
BEGIN:VEVENT
UID:17317987339ca0f72de438c5b1eea26c
DTSTAMP:20260419T161459Z
SUMMARY:7:00 pm JCC Search Committee Meeting
DESCRIPTION:Shalom Lehigh Valley\nCommunity Calendar\nhttps://shalomlehighv
 alley.org/calendar/7pm-jcc-search-committee-meeting-133464\n\nContact Amy 
 Holtz: aholtz@lvjcc.org or 610-435-3571 x120.
DTSTART;TZID=America/New_York:20150211T190000
DTEND;TZID=America/New_York:20150211T213000
END:VEVENT
END:VCALENDAR
