BEGIN:VCALENDAR
PRODID:-//eluceo/ical//2.0/EN
VERSION:2.0
CALSCALE:GREGORIAN
BEGIN:VEVENT
UID:f706de507698bc8dd090d6e98ecef4ba
DTSTAMP:20260420T145657Z
SUMMARY:7pm JCC Theater Camp Show
DESCRIPTION:Shalom Lehigh Valley\nCommunity Calendar\nhttps://shalomlehighv
 alley.org/calendar/7pm-jcc-theater-camp-show-277209\n\nDo Re Me Camp Show
DTSTART;TZID=America/New_York:20180802T190000
DTEND;TZID=America/New_York:20180802T200000
END:VEVENT
END:VCALENDAR
