BEGIN:VCALENDAR
PRODID:-//eluceo/ical//2.0/EN
VERSION:2.0
CALSCALE:GREGORIAN
BEGIN:VEVENT
UID:0eab907e2e931525da35436861013ac2
DTSTAMP:20260420T043038Z
SUMMARY:7pm JCC Voice and Music Recital
DESCRIPTION:Shalom Lehigh Valley\nCommunity Calendar\nhttps://shalomlehighv
 alley.org/calendar/7pm-jcc-voice-and-music-recital-339849\n\nMusic and Voi
 ce Recital
DTSTART;TZID=America/New_York:20210512T190000
DTEND;TZID=America/New_York:20210512T200000
END:VEVENT
END:VCALENDAR
