BEGIN:VCALENDAR
PRODID:-//eluceo/ical//2.0/EN
VERSION:2.0
CALSCALE:GREGORIAN
BEGIN:VEVENT
UID:b9891a9b43192a86c028953945ec656a
DTSTAMP:20260419T213232Z
SUMMARY:7pm JCC Winter Show Performances
DESCRIPTION:Shalom Lehigh Valley\nCommunity Calendar\nhttps://shalomlehighv
 alley.org/calendar/7pm-jcc-winter-show-performances-337303\n\nWinter Show 
 Performances
DTSTART;TZID=America/New_York:20210211T190000
DTEND;TZID=America/New_York:20210211T210000
END:VEVENT
END:VCALENDAR
