BEGIN:VCALENDAR
PRODID:-//eluceo/ical//2.0/EN
VERSION:2.0
CALSCALE:GREGORIAN
BEGIN:VEVENT
UID:f8b2d8c1bf1fa5dfa8bce81019522f1c
DTSTAMP:20260420T144930Z
SUMMARY:7pm JDS 8th Grade Graduation
DESCRIPTION:Shalom Lehigh Valley\nCommunity Calendar\nhttps://shalomlehighv
 alley.org/calendar/7pm-jds-8th-grade-graduation-302091\n\nJDS 8th Grade Gr
 aduation
DTSTART;TZID=America/New_York:20200609T190000
DTEND;TZID=America/New_York:20200609T203000
END:VEVENT
END:VCALENDAR
