BEGIN:VCALENDAR
PRODID:-//eluceo/ical//2.0/EN
VERSION:2.0
CALSCALE:GREGORIAN
BEGIN:VEVENT
UID:e601d5283dd39e12e70bfa2cd8c393f1
DTSTAMP:20260421T161355Z
SUMMARY:7pm JDS Board Meeting
DESCRIPTION:Shalom Lehigh Valley\nCommunity Calendar\nhttps://shalomlehighv
 alley.org/calendar/7pm-october-2022-jds-board-meeting-410828\n\nJDS Board 
 Meeting
DTSTART;TZID=America/New_York:20221006T190000
DTEND;TZID=America/New_York:20221006T210000
END:VEVENT
END:VCALENDAR
