BEGIN:VCALENDAR
PRODID:-//eluceo/ical//2.0/EN
VERSION:2.0
CALSCALE:GREGORIAN
BEGIN:VEVENT
UID:c5bba6f3d32d0a2b959bbdd8f686ece9
DTSTAMP:20260420T055021Z
SUMMARY:7pm JDS Board Meeting
DESCRIPTION:Shalom Lehigh Valley\nCommunity Calendar\nhttps://shalomlehighv
 alley.org/calendar/7pm-september-2022-jds-board-meeting-410827\n\nJDS Boar
 d Meeting
DTSTART;TZID=America/New_York:20220907T190000
DTEND;TZID=America/New_York:20220907T210000
END:VEVENT
END:VCALENDAR
