BEGIN:VCALENDAR
PRODID:-//eluceo/ical//2.0/EN
VERSION:2.0
CALSCALE:GREGORIAN
BEGIN:VEVENT
UID:f9ac5ce72021b0697798f3553ccd505e
DTSTAMP:20260422T003923Z
SUMMARY:8:00 am JCC Pancake Breakfast
DESCRIPTION:Shalom Lehigh Valley\nCommunity Calendar\nhttps://shalomlehighv
 alley.org/calendar/800-am-jcc-pancake-breakfast-12-25-17-225225\n\nContact
  Sandy Newman: snewman@lvjcc.org or 610-435-3571 x115
DTSTART;TZID=America/New_York:20171225T080000
DTEND;TZID=America/New_York:20171225T120000
END:VEVENT
END:VCALENDAR
