BEGIN:VCALENDAR
PRODID:-//eluceo/ical//2.0/EN
VERSION:2.0
CALSCALE:GREGORIAN
BEGIN:VEVENT
UID:8874a9b638002c5af7fbbe6b06b93a4c
DTSTAMP:20260419T124956Z
SUMMARY:8:00 AM JCC Scholastic Book Fair
DESCRIPTION:Shalom Lehigh Valley\nCommunity Calendar\nhttps://shalomlehighv
 alley.org/calendar/800-am-jcc-scholastic-book-fair-3425\n\n8:00 AM JCC Sch
 olastic Book Fair
DTSTART;TZID=America/New_York:20131121T080000
DTEND;TZID=America/New_York:20131121T160000
END:VEVENT
END:VCALENDAR
