BEGIN:VCALENDAR
PRODID:-//eluceo/ical//2.0/EN
VERSION:2.0
CALSCALE:GREGORIAN
BEGIN:VEVENT
UID:b5c1bf905084711004eaea96989da821
DTSTAMP:20260419T164800Z
SUMMARY:8:00 pm TBE Shavuot Program
DESCRIPTION:Shalom Lehigh Valley\nCommunity Calendar\nhttps://shalomlehighv
 alley.org/calendar/800-pm-tbe-shavuot-program-3325\n\n8:00 pm TBE Shavuot 
 Program
DTSTART;TZID=America/New_York:20130514T200000
DTEND;TZID=America/New_York:20130514T210000
END:VEVENT
END:VCALENDAR
