BEGIN:VCALENDAR
PRODID:-//eluceo/ical//2.0/EN
VERSION:2.0
CALSCALE:GREGORIAN
BEGIN:VEVENT
UID:d4056697fe545cdbbb1e3387e596e7cc
DTSTAMP:20260419T183504Z
SUMMARY:8:30 AM JDS Dr. Seuss Read-In
DESCRIPTION:Shalom Lehigh Valley\nCommunity Calendar\nhttps://shalomlehighv
 alley.org/calendar/830-am-jds-dr-seuss-read-in-3608\n\n8:30 AM JDS Dr. Seu
 ss Read-In
DTSTART;TZID=America/New_York:20140228T083000
DTEND;TZID=America/New_York:20140228T144500
END:VEVENT
END:VCALENDAR
