BEGIN:VCALENDAR
PRODID:-//eluceo/ical//2.0/EN
VERSION:2.0
CALSCALE:GREGORIAN
BEGIN:VEVENT
UID:89450871e54cef0194ef34b3a45266a5
DTSTAMP:20260419T143254Z
SUMMARY:8:30am JCC Hamilton Bus Trip
DESCRIPTION:Shalom Lehigh Valley\nCommunity Calendar\nhttps://shalomlehighv
 alley.org/calendar/830am-jcc-hamilton-bus-trip-393233\n\nJoin us for a day
  on Broadway with a private coach bus and ticket to Hamilton. Hamilton is 
 the story of the unlikely Founding Father determined to make his mark on t
 he new nation\, as hungry and ambitious as he is.\n\nFor additional detail
 s including pricing please contact the welcome desk at 610.435.3571
DTSTART;TZID=America/New_York:20220330T083000
DTEND;TZID=America/New_York:20220330T210000
END:VEVENT
END:VCALENDAR
