BEGIN:VCALENDAR
PRODID:-//eluceo/ical//2.0/EN
VERSION:2.0
CALSCALE:GREGORIAN
BEGIN:VEVENT
UID:75714c645965ef90381f813658b638af
DTSTAMP:20260420T112846Z
SUMMARY:8am JCC Sukkot at the J
DESCRIPTION:Shalom Lehigh Valley\nCommunity Calendar\nhttps://shalomlehighv
 alley.org/calendar/8am-jcc-sukkot-at-the-j-5-362024\n\nDon't have a Sukkah
 \, or want to experience eating in the Sukkah this year? Order from the fo
 od truck\, or bring a kosher style meal from home. Reserve a time slot to 
 enjoy a special meal with your family at our Sukkah on the Washington Stre
 et Field.
DTSTART;TZID=America/New_York:20201005T170000
DTEND;TZID=America/New_York:20201005T193000
END:VEVENT
END:VCALENDAR
