BEGIN:VCALENDAR
PRODID:-//eluceo/ical//2.0/EN
VERSION:2.0
CALSCALE:GREGORIAN
BEGIN:VEVENT
UID:c585de2d9f3c95cf9f3069a9e841076a
DTSTAMP:20260419T143657Z
SUMMARY:9 am TBE Grade 3 Family Program February 12\, 2023
DESCRIPTION:Shalom Lehigh Valley\nCommunity Calendar\nhttps://shalomlehighv
 alley.org/calendar/9-am-tbe-grade-3-family-program-february-12-2023-403782
 \n\n9 am Grade 3 Family Program
DTSTART;TZID=America/New_York:20230212T090000
DTEND;TZID=America/New_York:20230212T110000
END:VEVENT
END:VCALENDAR
