BEGIN:VCALENDAR
PRODID:-//eluceo/ical//2.0/EN
VERSION:2.0
CALSCALE:GREGORIAN
BEGIN:VEVENT
UID:d532a29d564f3e8ee0ae1f8b1400e526
DTSTAMP:20260420T192709Z
SUMMARY:9:00 am KI Blood Drive
DESCRIPTION:Shalom Lehigh Valley\nCommunity Calendar\nhttps://shalomlehighv
 alley.org/calendar/900-am-ki-blood-drive-131284\n\nSign up online at www.k
 ilv.org
DTSTART;TZID=America/New_York:20150222T090000
DTEND;TZID=America/New_York:20150222T120000
END:VEVENT
END:VCALENDAR
