BEGIN:VCALENDAR
PRODID:-//eluceo/ical//2.0/EN
VERSION:2.0
CALSCALE:GREGORIAN
BEGIN:VEVENT
UID:a933776600029fdac5881904a9789b34
DTSTAMP:20260420T192018Z
SUMMARY:9:00 am TBE - MINYAN at the Fish Hatchery
DESCRIPTION:Shalom Lehigh Valley\nCommunity Calendar\nhttps://shalomlehighv
 alley.org/calendar/900-am-tbe---minyan-at-the-fish-hatchery-3506\n\n9:00 a
 m TBE - MINYAN at the Fish Hatchery
DTSTART;TZID=America/New_York:20130929T090000
DTEND;TZID=America/New_York:20130929T093000
END:VEVENT
END:VCALENDAR
