BEGIN:VCALENDAR
PRODID:-//eluceo/ical//2.0/EN
VERSION:2.0
CALSCALE:GREGORIAN
BEGIN:VEVENT
UID:05e406fc6a63bb764c2e5ca8fcb4d8ec
DTSTAMP:20260420T135501Z
SUMMARY:9:00 am TBE Grade 3 Family Project
DESCRIPTION:Shalom Lehigh Valley\nCommunity Calendar\nhttps://shalomlehighv
 alley.org/calendar/900-am-tbe-grade-3-family-project-2-3-19-265959\n\nCont
 act Michelle Rohrbach: michelle@bethelallentown.org or 610-435-3521.
DTSTART;TZID=America/New_York:20190203T090000
DTEND;TZID=America/New_York:20190203T120000
END:VEVENT
END:VCALENDAR
