BEGIN:VCALENDAR
PRODID:-//eluceo/ical//2.0/EN
VERSION:2.0
CALSCALE:GREGORIAN
BEGIN:VEVENT
UID:7ec0709e72d5a89f6e116f6d1e31c701
DTSTAMP:20260420T205057Z
SUMMARY:9:00 am TBE July Birthday Shabbat
DESCRIPTION:Shalom Lehigh Valley\nCommunity Calendar\nhttps://shalomlehighv
 alley.org/calendar/900-am-tbe-july-birthday-shabbat-7-15-17-224861\n\nCont
 act Michelle Rohrbach: michelle@bethelallentown.org or 610-435-3521.
DTSTART;TZID=America/New_York:20170715T090000
DTEND;TZID=America/New_York:20170715T113000
END:VEVENT
END:VCALENDAR
