BEGIN:VCALENDAR
PRODID:-//eluceo/ical//2.0/EN
VERSION:2.0
CALSCALE:GREGORIAN
BEGIN:VEVENT
UID:52f07c99701408a7697d1c723f6dbc61
DTSTAMP:20260419T173313Z
SUMMARY:9:00 am TBE June Birthday Shabbat
DESCRIPTION:Shalom Lehigh Valley\nCommunity Calendar\nhttps://shalomlehighv
 alley.org/calendar/900-am-tbe-june-birthday-shabbat-65295\n\nRSVP to the t
 emple office at 610-435-3521 to be included in your birthday Shabbat!
DTSTART;TZID=America/New_York:20150620T090000
DTEND;TZID=America/New_York:20150620T113000
END:VEVENT
END:VCALENDAR
