BEGIN:VCALENDAR
PRODID:-//eluceo/ical//2.0/EN
VERSION:2.0
CALSCALE:GREGORIAN
BEGIN:VEVENT
UID:30381e72a9157153ad92c00b41c207c4
DTSTAMP:20260419T194819Z
SUMMARY:9:00 am TBE Legos Program 2018
DESCRIPTION:Shalom Lehigh Valley\nCommunity Calendar\nhttps://shalomlehighv
 alley.org/calendar/900-am-tbe-legos-program-2018-290117\n\n9:00 am TBE Leg
 os Program
DTSTART;TZID=America/New_York:20181202T090000
DTEND;TZID=America/New_York:20181202T113000
END:VEVENT
END:VCALENDAR
