BEGIN:VCALENDAR
PRODID:-//eluceo/ical//2.0/EN
VERSION:2.0
CALSCALE:GREGORIAN
BEGIN:VEVENT
UID:ee64c6a3e8388436bba74580efde85ef
DTSTAMP:20260419T230958Z
SUMMARY:9:00 am TBE Sisterhood Shabbat!
DESCRIPTION:Shalom Lehigh Valley\nCommunity Calendar\nhttps://shalomlehighv
 alley.org/calendar/900-am-tbe-sisterhood-shabbat-3405\n\n9:00 am TBE Siste
 rhood Shabbat!
DTSTART;TZID=America/New_York:20130119T090000
DTEND;TZID=America/New_York:20130119T113000
END:VEVENT
END:VCALENDAR
