BEGIN:VCALENDAR
PRODID:-//eluceo/ical//2.0/EN
VERSION:2.0
CALSCALE:GREGORIAN
BEGIN:VEVENT
UID:fc4dd73ecc427db402bb0849637ac6ba
DTSTAMP:20260422T053116Z
SUMMARY:9:00 pm Community Selichot Program
DESCRIPTION:Shalom Lehigh Valley\nCommunity Calendar\nhttps://shalomlehighv
 alley.org/calendar/900-pm-community-selichot-program-9-20-14-62028\n\nCont
 act Michelle Rohrbach: michelle@bethelallentown.org or 610-435-3521.
DTSTART;TZID=America/New_York:20140920T210000
DTEND;TZID=America/New_York:20140920T220000
END:VEVENT
END:VCALENDAR
