BEGIN:VCALENDAR
PRODID:-//eluceo/ical//2.0/EN
VERSION:2.0
CALSCALE:GREGORIAN
BEGIN:VEVENT
UID:775352dac7d4c5b61f8f7a8753064b9e
DTSTAMP:20260419T214004Z
SUMMARY:9:00 pm TBE JAZZ CONCERT
DESCRIPTION:Shalom Lehigh Valley\nCommunity Calendar\nhttps://shalomlehighv
 alley.org/calendar/900-pm-tbe-jazz-concert-3535\n\n9:00 pm TBE JAZZ CONCER
 T
DTSTART;TZID=America/New_York:20140531T210000
DTEND;TZID=America/New_York:20140531T220000
END:VEVENT
END:VCALENDAR
