BEGIN:VCALENDAR
PRODID:-//eluceo/ical//2.0/EN
VERSION:2.0
CALSCALE:GREGORIAN
BEGIN:VEVENT
UID:90bf3b7097ce72f2c939c64c14709a07
DTSTAMP:20260419T204235Z
SUMMARY:9:00am JCC Winter II 2019: Mosaics
DESCRIPTION:Shalom Lehigh Valley\nCommunity Calendar\nhttps://shalomlehighv
 alley.org/calendar/900am-300952\n\nIn this 4-week class you will learn all
  the skills needed to create your own beautiful mosaic art. Instructor Cin
 dy Schneider will teach participants how to safely handle glass and how to
  use appropriate glass cutting tools.
DTSTART;TZID=America/New_York:20190407T090000
DTEND;TZID=America/New_York:20190407T113000
END:VEVENT
END:VCALENDAR
