BEGIN:VCALENDAR
PRODID:-//eluceo/ical//2.0/EN
VERSION:2.0
CALSCALE:GREGORIAN
BEGIN:VEVENT
UID:614babae983de992f0076ff4f28f0919
DTSTAMP:20260421T035929Z
SUMMARY:9:00am JCC Winter II 2019: Mosaics
DESCRIPTION:Shalom Lehigh Valley\nCommunity Calendar\nhttps://shalomlehighv
 alley.org/calendar/900am-jcc-winter-ii-2019-mosaics-april-300953\n\nIn thi
 s 4-week class you will learn all the skills needed to create your own bea
 utiful mosaic art. Instructor Cindy Schneider will teach participants how 
 to safely handle glass and how to use appropriate glass cutting tools.
DTSTART;TZID=America/New_York:20190428T090000
DTEND;TZID=America/New_York:20190428T113000
END:VEVENT
END:VCALENDAR
