BEGIN:VCALENDAR
PRODID:-//eluceo/ical//2.0/EN
VERSION:2.0
CALSCALE:GREGORIAN
BEGIN:VEVENT
UID:f713c8ca9bda8383e66d4f9f33dc865c
DTSTAMP:20260419T233137Z
SUMMARY:9:15 am TBE Sisterhood Program
DESCRIPTION:Shalom Lehigh Valley\nCommunity Calendar\nhttps://shalomlehighv
 alley.org/calendar/915-am-tbe-sisterhood-program-327844\n\n9:15 am TBE Sis
 terhood Program
DTSTART;TZID=America/New_York:20191117T091500
DTEND;TZID=America/New_York:20191117T111500
END:VEVENT
END:VCALENDAR
