BEGIN:VCALENDAR
PRODID:-//eluceo/ical//2.0/EN
VERSION:2.0
CALSCALE:GREGORIAN
BEGIN:VEVENT
UID:963bcc7666df49ac2cfcfa8a7f70b603
DTSTAMP:20260420T010526Z
SUMMARY:9:15 am JCC PrimeTime Walking Club
DESCRIPTION:Shalom Lehigh Valley\nCommunity Calendar\nhttps://shalomlehighv
 alley.org/calendar/915am-jcc-primetime-walking-club-138351\n\nJCC members:
  free. Non-members: $18. Contact Melissa Hakim: mhakim@lvjcc.org or 610-43
 5-3571.
DTSTART;TZID=America/New_York:20150406T091500
DTEND;TZID=America/New_York:20150406T100000
END:VEVENT
END:VCALENDAR
