BEGIN:VCALENDAR
PRODID:-//eluceo/ical//2.0/EN
VERSION:2.0
CALSCALE:GREGORIAN
BEGIN:VEVENT
UID:5dcaf3289c73ae52677d3ca6528545f3
DTSTAMP:20260420T185330Z
SUMMARY:9:30 am BCJS Benjamin and Judaism Symposium - Day Two
DESCRIPTION:Shalom Lehigh Valley\nCommunity Calendar\nhttps://shalomlehighv
 alley.org/calendar/930-am-bcjs-benjamin-and-judaism-symposium-day-two-1360
 60\n\nFor more info: Office of Interdisciplinary Programs 610-758-3996\; i
 ncasip@lehigh.edu\; http://cjs.cas2.lehigh.edu/
DTSTART;TZID=America/New_York:20150306T093000
DTEND;TZID=America/New_York:20150306T140000
END:VEVENT
END:VCALENDAR
