BEGIN:VCALENDAR
PRODID:-//eluceo/ical//2.0/EN
VERSION:2.0
CALSCALE:GREGORIAN
BEGIN:VEVENT
UID:760c1b6c9ddb1431bce4e3df1cb0719c
DTSTAMP:20260420T042847Z
SUMMARY:9:30 am JCC Camp Meet & Greet
DESCRIPTION:Shalom Lehigh Valley\nCommunity Calendar\nhttps://shalomlehighv
 alley.org/calendar/930-am-jcc-camp-meet-greet-6-18-17-226575\n\nContact Br
 enda Finberg: bfinberg@lvjcc.org or 610-435-3571.
DTSTART;TZID=America/New_York:20170618T093000
DTEND;TZID=America/New_York:20170618T120000
END:VEVENT
END:VCALENDAR
