BEGIN:VCALENDAR
PRODID:-//eluceo/ical//2.0/EN
VERSION:2.0
CALSCALE:GREGORIAN
BEGIN:VEVENT
UID:ecd006ed0c42c5e8bd76a8461f164fa5
DTSTAMP:20260420T175307Z
SUMMARY:9:30 am JCC FREE Fall Risk Assessment & Blood Pressure Event
DESCRIPTION:Shalom Lehigh Valley\nCommunity Calendar\nhttps://shalomlehighv
 alley.org/calendar/930-am-jcc-free-fall-risk-assessment-blood-pressure-eve
 nt-3-23-18-262877\n\nContact Amy Sams: asams@lvjcc.org or 610-435-3571.
DTSTART;TZID=America/New_York:20180323T093000
DTEND;TZID=America/New_York:20180323T123000
END:VEVENT
END:VCALENDAR
