BEGIN:VCALENDAR
PRODID:-//eluceo/ical//2.0/EN
VERSION:2.0
CALSCALE:GREGORIAN
BEGIN:VEVENT
UID:304e3cc8879062a944c11e4fcf5f945e
DTSTAMP:20260420T020017Z
SUMMARY:9:30 am KI Brunch and Lecture
DESCRIPTION:Shalom Lehigh Valley\nCommunity Calendar\nhttps://shalomlehighv
 alley.org/calendar/930-am-ki-brunch-and-lecture-105992\n\nBrunch begins at
  9:30 am followed by a lecture. RSVP to the KI office 610-435-9074 by Tues
 \, Nov 4.
DTSTART;TZID=America/New_York:20141109T093000
DTEND;TZID=America/New_York:20141109T113000
END:VEVENT
END:VCALENDAR
