BEGIN:VCALENDAR
PRODID:-//eluceo/ical//2.0/EN
VERSION:2.0
CALSCALE:GREGORIAN
BEGIN:VEVENT
UID:4bf1c30c14a308440acad12d9a81eccd
DTSTAMP:20260420T125908Z
SUMMARY:9:30 am KI Brunch and Lecture "Jewish Identity"
DESCRIPTION:Shalom Lehigh Valley\nCommunity Calendar\nhttps://shalomlehighv
 alley.org/calendar/930-am-ki-brunch-and-lecture-jewish-identity-10-4-15-15
 8083\n\nBrunch with RSVP $5\; without RSVP $7.50 at door. Contact Vikki Du
 nn: vdunn@kilv.org or 610-435-9074.
DTSTART;TZID=America/New_York:20151004T093000
DTEND;TZID=America/New_York:20151004T113000
END:VEVENT
END:VCALENDAR
