BEGIN:VCALENDAR
PRODID:-//eluceo/ical//2.0/EN
VERSION:2.0
CALSCALE:GREGORIAN
BEGIN:VEVENT
UID:ea19dded29b8dc59a8fbe02698765a2f
DTSTAMP:20260420T230608Z
SUMMARY:9:30 AM KI Torah Study with Rabbi Shoshanah
DESCRIPTION:Shalom Lehigh Valley\nCommunity Calendar\nhttps://shalomlehighv
 alley.org/calendar/930-am-ki-torah-study-443210\n\nMaking Meaning with Rab
 bi Shoshanah\n\nJoin Rabbi Shoshanah Tornberg every Saturday morning\, be
 ginning July 8th at 9:30am as together\, we make meaning of the weekly To
 rah portion and more.\n\n\nTime: 9:30 am - 10:30 pm\nWhere: Congregation 
 Keneseth Israel. Please enter in the 23rd St door.\n\n\nQuestions?  Cont
 act Rabbi Shoshanah Via the Form HERE!
DTSTART;TZID=America/New_York:20240727T093000
DTEND;TZID=America/New_York:20240728T110000
END:VEVENT
END:VCALENDAR
