BEGIN:VCALENDAR
PRODID:-//eluceo/ical//2.0/EN
VERSION:2.0
CALSCALE:GREGORIAN
BEGIN:VEVENT
UID:d812af235184ee7d67a7d1612acb3f52
DTSTAMP:20260420T152150Z
SUMMARY:9:30 am TBE Birthday Shabbat
DESCRIPTION:Shalom Lehigh Valley\nCommunity Calendar\nhttps://shalomlehighv
 alley.org/calendar/930-am-tbe-birthday-shabbat-7-28-18-265649\n\nRSVP to t
 he temple office at 610-435-3521.
DTSTART;TZID=America/New_York:20180728T093000
DTEND;TZID=America/New_York:20180728T113000
END:VEVENT
END:VCALENDAR
