BEGIN:VCALENDAR
PRODID:-//eluceo/ical//2.0/EN
VERSION:2.0
CALSCALE:GREGORIAN
BEGIN:VEVENT
UID:1ad108dd045845c031ec48cfbe78a50c
DTSTAMP:20260420T010608Z
SUMMARY:9:30 am TBE November Birthday Shabbat
DESCRIPTION:Shalom Lehigh Valley\nCommunity Calendar\nhttps://shalomlehighv
 alley.org/calendar/930-am-tbe-november-birthday-shabbat-11-17-18-265919\n\
 nContact Michelle Rohrbach: michelle@bethelallentown.org or 610-435-3521.
DTSTART;TZID=America/New_York:20181117T093000
DTEND;TZID=America/New_York:20181117T113000
END:VEVENT
END:VCALENDAR
