BEGIN:VCALENDAR
PRODID:-//eluceo/ical//2.0/EN
VERSION:2.0
CALSCALE:GREGORIAN
BEGIN:VEVENT
UID:1d065a08557babec72801311a7474e8f
DTSTAMP:20260420T105132Z
SUMMARY:9:30 am TBE Shavuot Service - CONFIRMATION 2021
DESCRIPTION:Shalom Lehigh Valley\nCommunity Calendar\nhttps://shalomlehighv
 alley.org/calendar/930-am-tbe-shavuot-service-confirmation-2021-345799\n\n
 9:30 am TBE Shavuot Service CONFIRMATION 2021
DTSTART;TZID=America/New_York:20210517T093000
DTEND;TZID=America/New_York:20210517T113000
END:VEVENT
END:VCALENDAR
