BEGIN:VCALENDAR
PRODID:-//eluceo/ical//2.0/EN
VERSION:2.0
CALSCALE:GREGORIAN
BEGIN:VEVENT
UID:453aa8b5c5b410759497847b9bc62d52
DTSTAMP:20260419T205726Z
SUMMARY:9:30 am TBE Sisterhood Shabbat Jan 2020
DESCRIPTION:Shalom Lehigh Valley\nCommunity Calendar\nhttps://shalomlehighv
 alley.org/calendar/930-am-tbe-sisterhood-shabbat-jan-2020-304486\n\n9:30 a
 m TBE Sisterhood Shabbat -We hope that you will join us for this Special S
 habbat Service as our\nSisterhood Members Lead us in Prayer and Song. A be
 autiful Kiddush to follow the Service.\n 
DTSTART;TZID=America/New_York:20200111T093000
DTEND;TZID=America/New_York:20200111T120000
END:VEVENT
END:VCALENDAR
