BEGIN:VCALENDAR
PRODID:-//eluceo/ical//2.0/EN
VERSION:2.0
CALSCALE:GREGORIAN
BEGIN:VEVENT
UID:f91abf22d507b530b57b9da2a58524ea
DTSTAMP:20260419T171137Z
SUMMARY:9:30 am TBE/ KI Scholar in Residence: Israel at 70
DESCRIPTION:Shalom Lehigh Valley\nCommunity Calendar\nhttps://shalomlehighv
 alley.org/calendar/930-am-tbe-with-ki-scholar-in-residence-3-10-18-251737\
 n\nAs part of a community-wide commemoration of 70 years since the birth o
 f the State of Israel\, Temple Beth El and Congregation Keneseth Israel 
 is hosting a scholar-in-residence weekend with Rabbi Daniel Goldfarb ent
 itled\, Israel at 70: The Jewish Perspective – Looking Out and Looking I
 n.Join Temple Beth El and KI for a Scholar-in-Residence weekend.\n\nOn Sha
 bbat morning\, Rabbi  Goldfarb will discuss the topic of "Israel at 70: 
 Are We (American Jews) in Exile?"\n\nKiddush will follow.\n...
DTSTART;TZID=America/New_York:20180310T093000
DTEND;TZID=America/New_York:20180310T113000
END:VEVENT
END:VCALENDAR
