BEGIN:VCALENDAR
PRODID:-//eluceo/ical//2.0/EN
VERSION:2.0
CALSCALE:GREGORIAN
BEGIN:VEVENT
UID:af589f0786d4856eaf5a02fb8582d59b
DTSTAMP:20260419T231857Z
SUMMARY:9:30 pm TBE Tisha B'Av Service
DESCRIPTION:Shalom Lehigh Valley\nCommunity Calendar\nhttps://shalomlehighv
 alley.org/calendar/930-pm-tbe-tisha-bav-service-378349\n\nDetails to follo
 w.
DTSTART;TZID=America/New_York:20210717T213000
DTEND;TZID=America/New_York:20210717T223000
END:VEVENT
END:VCALENDAR
