BEGIN:VCALENDAR
PRODID:-//eluceo/ical//2.0/EN
VERSION:2.0
CALSCALE:GREGORIAN
BEGIN:VEVENT
UID:6d50d51856ed28939d82d9883c429832
DTSTAMP:20260420T022044Z
SUMMARY:9am COVID Booster Shot Clinic
DESCRIPTION:Shalom Lehigh Valley\nCommunity Calendar\nhttps://shalomlehighv
 alley.org/calendar/9am-covid-booster-shot-clinic-419545\n\nJCC COVID Boos
 ter Shot Clinic
DTSTART;TZID=America/New_York:20221024T090000
DTEND;TZID=America/New_York:20221024T123000
END:VEVENT
END:VCALENDAR
