BEGIN:VCALENDAR
PRODID:-//eluceo/ical//2.0/EN
VERSION:2.0
CALSCALE:GREGORIAN
BEGIN:VEVENT
UID:c931e3266359d6c53f9df0a42f5b740d
DTSTAMP:20260422T183518Z
SUMMARY:9am JCC John Caviston Memorial Marathon Pickleball Event
DESCRIPTION:Shalom Lehigh Valley\nCommunity Calendar\nhttps://shalomlehighv
 alley.org/calendar/9am-jcc-pickleball-event-336967\n\nJoin us for a fun da
 y Pickleball in Honor of John Caviston who was one of the biggest ambassad
 or for Pickleball in the Leigh Valley as well as who helped launch the JCC
 's Picklelball program. Events include Marathon play(sign up for 2hr slots
  of court time with extra court time available)  and trick shot contest. 
 (Try your luck at re-creating John's signature shot!\n\nA portion of the e
 vents proceeds will benefit John's favorite charity\, Children's Hospital 
 of Philadelphia. 
DTSTART;TZID=America/New_York:20200301T090000
DTEND;TZID=America/New_York:20200301T170000
END:VEVENT
END:VCALENDAR
