BEGIN:VCALENDAR
PRODID:-//eluceo/ical//2.0/EN
VERSION:2.0
CALSCALE:GREGORIAN
BEGIN:VEVENT
UID:3c2fa529ecff32605d8245246e2caebd
DTSTAMP:20260421T190655Z
SUMMARY:9:00 am JCC Textile Collage Class
DESCRIPTION:Shalom Lehigh Valley\nCommunity Calendar\nhttps://shalomlehighv
 alley.org/calendar/9am-jcctextilecollageclass-9-18-16-191664\n\nPrice TBD.
  Registration required. Contact Amy Sams: asams@lvjcc.org or 610-435-3571.
DTSTART;TZID=America/New_York:20160918T090000
DTEND;TZID=America/New_York:20160918T120000
END:VEVENT
END:VCALENDAR
