BEGIN:VCALENDAR
PRODID:-//eluceo/ical//2.0/EN
VERSION:2.0
CALSCALE:GREGORIAN
BEGIN:VEVENT
UID:b930d0f10f7b3f57b649f5437ad50245
DTSTAMP:20260420T060500Z
SUMMARY:A Constitution in the Making: A Comparison Between U.S. and Israeli
  Law
DESCRIPTION:Shalom Lehigh Valley\nCommunity Calendar\nhttps://shalomlehighv
 alley.org/calendar/a-constitution-in-the-making-67415\n\nJoin the Jewish F
 ederation for a breakfast briefing on a comparison of Israeli Law to U.S. 
 Constitutional law with Yonit Waldner Peleg\, Israeli lawyer\, law profess
 or and legal expert on Israeli constitutional law.\n \nYonit is a residen
 t of Kibbutz Kfar Menahem and mother of three. She holds a master's degree
  in law from Tel Aviv University and is a certified lawyer. She lectured a
 t the College of Management Law School in Rishon LeZion until 2011\, teach
 ing core courses in law as well as othe...
DTSTART;TZID=America/New_York:20140701T084500
DTEND;TZID=America/New_York:20140701T100000
END:VEVENT
END:VCALENDAR
