BEGIN:VCALENDAR
PRODID:-//eluceo/ical//2.0/EN
VERSION:2.0
CALSCALE:GREGORIAN
BEGIN:VEVENT
UID:b7af78f9c72cdeeed75aebc6a35c2569
DTSTAMP:20260420T054726Z
SUMMARY:6:30 pm Am Haskalah Tu B'Shevat Seder
DESCRIPTION:Shalom Lehigh Valley\nCommunity Calendar\nhttps://shalomlehighv
 alley.org/calendar/am-haskalah-tu-bshevat-seder-396611\n\nGather Your Favo
 rite Fruits and Celebrate the New Year of the Trees with us! Led by Studen
 t Rabbi Armin Langer on Zoom. \n\nFree and Open to All.  Email AmHaskala
 hDirector@gmail.com to RSVP.
DTSTART;TZID=America/New_York:20220116T183000
DTEND;TZID=America/New_York:20220116T200000
END:VEVENT
END:VCALENDAR
