BEGIN:VCALENDAR
PRODID:-//eluceo/ical//2.0/EN
VERSION:2.0
CALSCALE:GREGORIAN
BEGIN:VEVENT
UID:dd39b07f1d12f154368dda8c664b3d35
DTSTAMP:20260420T044111Z
SUMMARY:Antisemitism: A Bipartisan Problem that Demands a Nonpartisan Solut
 ion\, 2
DESCRIPTION:Shalom Lehigh Valley\nCommunity Calendar\nhttps://shalomlehighv
 alley.org/calendar/antisemitism-a-bipartisan-problem-part-2-389607\n\n"How
  Progressives Can Counter Antisemitism on the Left"\n\nVia Zoom.\n\nA spea
 ker series featuring leaders who have courageously and powerfully challeng
 ed anti-Jewish bigotry from their own political allies.\n\nWilliam Kristol
 \, one of the defining conservative thinkers and writers of his generation
 \, has a decades-long track record of facing down antisemitism from within
  his own party. Join us to hear about his experiences and learn how conser
 vatives can effectively challenge anti-Jewish hate ...
DTSTART;TZID=America/New_York:20211118T190000
DTEND;TZID=America/New_York:20211118T203000
END:VEVENT
END:VCALENDAR
