BEGIN:VCALENDAR
PRODID:-//eluceo/ical//2.0/EN
VERSION:2.0
CALSCALE:GREGORIAN
BEGIN:VEVENT
UID:8392a0d58df499a5edcd58bc9447cd10
DTSTAMP:20260419T214035Z
SUMMARY:BCJS: "After Multiculturalism: Rethinking Jewish Identity in a Post
 ethnic S
DESCRIPTION:Shalom Lehigh Valley\nCommunity Calendar\nhttps://shalomlehighv
 alley.org/calendar/bcjs-after-multiculturalism-rethinking-jewish-identity-
 in-a-postethnic-society-3676\n\n7:00 PM BCJS Dr. Shaul Magid
DTSTART;TZID=America/New_York:20131120T190000
DTEND;TZID=America/New_York:20131120T210000
END:VEVENT
END:VCALENDAR
