BEGIN:VCALENDAR
PRODID:-//eluceo/ical//2.0/EN
VERSION:2.0
CALSCALE:GREGORIAN
BEGIN:VEVENT
UID:b5cafe1b76cf4409bcc89f9c132c9d44
DTSTAMP:20260422T185129Z
SUMMARY:BCJS: Anat Hoffman
DESCRIPTION:Shalom Lehigh Valley\nCommunity Calendar\nhttps://shalomlehighv
 alley.org/calendar/bcjs-anat-hoffman-49465\n\n7:00 PM BCJS Back of the Bus
  to Top of the Agenda
DTSTART;TZID=America/New_York:20140128T190000
DTEND;TZID=America/New_York:20140128T220000
END:VEVENT
END:VCALENDAR
