BEGIN:VCALENDAR
PRODID:-//eluceo/ical//2.0/EN
VERSION:2.0
CALSCALE:GREGORIAN
BEGIN:VEVENT
UID:1de065b4981ac7e7b2a53382a66f2d99
DTSTAMP:20260421T203759Z
SUMMARY:BCJS: Hannah Arendt's EICHMANN IN JERUSALEM at 50 Panel Discussion
DESCRIPTION:Shalom Lehigh Valley\nCommunity Calendar\nhttps://shalomlehighv
 alley.org/calendar/bcjs-hannah-arendts-eichmann-in-jerusalem-at-50-panel-d
 iscussion-3672\n\n4:15 PM BCJS-EICHMANN IN JERUSALEM at 50 Panel
DTSTART;TZID=America/New_York:20131007T161000
DTEND;TZID=America/New_York:20131007T180000
END:VEVENT
END:VCALENDAR
