BEGIN:VCALENDAR
PRODID:-//eluceo/ical//2.0/EN
VERSION:2.0
CALSCALE:GREGORIAN
BEGIN:VEVENT
UID:3822be266cde3669d61a51b65415d59e
DTSTAMP:20260420T113102Z
SUMMARY:7:30 pm TCP Beatle's Purim Service & 60's Dance Party
DESCRIPTION:Shalom Lehigh Valley\nCommunity Calendar\nhttps://shalomlehighv
 alley.org/calendar/beatles-purim-service--60s-dance-party-1546015602-29708
 6\n\nJoin Temple Covenant of Peace for our Beatle's Purim Service & 60's D
 ance Party at 7:30 PM 
DTSTART;TZID=America/New_York:20190322T193000
DTEND;TZID=America/New_York:20190322T213000
END:VEVENT
END:VCALENDAR
