BEGIN:VCALENDAR
PRODID:-//eluceo/ical//2.0/EN
VERSION:2.0
CALSCALE:GREGORIAN
BEGIN:VEVENT
UID:c46a8d0cda07bdb31a23ee7aade2f7fb
DTSTAMP:20260420T081429Z
SUMMARY:Bethlehem Federation Shabbat: Meet Jeri Zimmerman
DESCRIPTION:Shalom Lehigh Valley\nCommunity Calendar\nhttps://shalomlehighv
 alley.org/calendar/bethlehem-federation-shabbat-meet-jeri-zimmerman-310240
 \n\nJeri Zimmerman\, new executive director of the Jewish Federation of th
 e Lehigh Valley\, will offer remarks at a Federation-sponsored Shabbat in 
 Bethlehem. Open to everyone.
DTSTART;TZID=America/New_York:20190615T090000
DTEND;TZID=America/New_York:20190615T120000
END:VEVENT
END:VCALENDAR
